BEGIN:VCALENDAR
VERSION:2.0
PRODID:-//hacksw/handcal//NONSGML v1.0//EN
BEGIN:VEVENT
DTSTAMP:20141118T183000Z
DTSTART:20141118T183000Z
DTEND:20141118T203000Z

SUMMARY:vs. Düsseldorfer EG
DESCRIPTION:
END:VEVENT
END:VCALENDAR