BEGIN:VCALENDAR
VERSION:2.0
PRODID:-//hacksw/handcal//NONSGML v1.0//EN
BEGIN:VEVENT
DTSTAMP:20150106T183000Z
DTSTART:20150106T183000Z
DTEND:20150106T203000Z

SUMMARY:vs. Düsseldorfer EG
DESCRIPTION:
END:VEVENT
END:VCALENDAR