BEGIN:VCALENDAR
VERSION:2.0
PRODID:-//hacksw/handcal//NONSGML v1.0//EN
BEGIN:VEVENT
DTSTAMP:20260308T130000Z
DTSTART:20260308T130000Z
DTEND:20260308T150000Z

SUMMARY:Kölner Haie - Eisbären Berlin
DESCRIPTION:
END:VEVENT
END:VCALENDAR