BEGIN:VCALENDAR
VERSION:2.0
PRODID:-//hacksw/handcal//NONSGML v1.0//EN
BEGIN:VEVENT
DTSTAMP:20250408T173000Z
DTSTART:20250408T173000Z
DTEND:20250408T193000Z

SUMMARY:Adler Mannheim - Eisbären Berlin
DESCRIPTION:
END:VEVENT
END:VCALENDAR