BEGIN:VCALENDAR
VERSION:2.0
PRODID:-//hacksw/handcal//NONSGML v1.0//EN
BEGIN:VEVENT
DTSTAMP:20241226T153000Z
DTSTART:20241226T153000Z
DTEND:20241226T173000Z

SUMMARY:Grizzlys Wolfsburg - Eisbären Berlin 
DESCRIPTION:
END:VEVENT
END:VCALENDAR