BEGIN:VCALENDAR
VERSION:2.0
PRODID:-//hacksw/handcal//NONSGML v1.0//EN
BEGIN:VEVENT
DTSTAMP:20170115T130000Z
DTSTART:20170115T130000Z
DTEND:20170115T150000Z

SUMMARY:Fischtown Pinguins Bremerhaven vs. Eisbären Berlin
DESCRIPTION:
END:VEVENT
END:VCALENDAR