BEGIN:VCALENDAR
VERSION:2.0
PRODID:-//hacksw/handcal//NONSGML v1.0//EN
BEGIN:VEVENT
DTSTAMP:20190915T120000Z
DTSTART:20190915T120000Z
DTEND:20190915T143000Z

SUMMARY:Fischtown Pinguins vs. Eisbären Berlin
DESCRIPTION:
END:VEVENT
END:VCALENDAR