BEGIN:VCALENDAR
VERSION:2.0
PRODID:-//hacksw/handcal//NONSGML v1.0//EN
BEGIN:VEVENT
DTSTAMP:20210226T173000Z
DTSTART:20210226T173000Z
DTEND:20210226T193000Z

SUMMARY:Fischtown Pinguins Bremerhaven - Eisbären Berlin
DESCRIPTION:
END:VEVENT
END:VCALENDAR