BEGIN:VCALENDAR
VERSION:2.0
PRODID:-//hacksw/handcal//NONSGML v1.0//EN
BEGIN:VEVENT
DTSTAMP:20190127T153000Z
DTSTART:20190127T153000Z
DTEND:20190127T180000Z

SUMMARY:Fischtown Pinguins Bremerhaven - Eisbären Berlin
DESCRIPTION:
END:VEVENT
END:VCALENDAR