BEGIN:VCALENDAR
VERSION:2.0
PRODID:-//hacksw/handcal//NONSGML v1.0//EN
BEGIN:VEVENT
DTSTAMP:20250214T183000Z
DTSTART:20250214T183000Z
DTEND:20250214T203000Z

SUMMARY:Fischtown Pinguins Bremerhaven - Eisbären Berlin 
DESCRIPTION:
END:VEVENT
END:VCALENDAR