BEGIN:VCALENDAR
VERSION:2.0
PRODID:-//hacksw/handcal//NONSGML v1.0//EN
BEGIN:VEVENT
DTSTAMP:20240308T183000Z
DTSTART:20240308T183000Z
DTEND:20240308T203000Z

SUMMARY:Eisbären Berlin - Fischtown Pinguins Bremerhaven
DESCRIPTION:
END:VEVENT
END:VCALENDAR