BEGIN:VCALENDAR
VERSION:2.0
PRODID:-//hacksw/handcal//NONSGML v1.0//EN
BEGIN:VEVENT
DTSTAMP:20240421T133000Z
DTSTART:20240421T133000Z
DTEND:20240421T153000Z

SUMMARY:Fischtown Pinguins Bremerhaven - Eisbären Berlin
DESCRIPTION:
END:VEVENT
END:VCALENDAR