BEGIN:VCALENDAR
VERSION:2.0
PRODID:-//hacksw/handcal//NONSGML v1.0//EN
BEGIN:VEVENT
DTSTAMP:20170928T173000Z
DTSTART:20170928T173000Z
DTEND:20170928T193000Z

SUMMARY:ERC Ingolstadt vs. Eisbären Berlin
DESCRIPTION:
END:VEVENT
END:VCALENDAR