BEGIN:VCALENDAR
VERSION:2.0
PRODID:-//hacksw/handcal//NONSGML v1.0//EN
BEGIN:VEVENT
DTSTAMP:20251218T183000Z
DTSTART:20251218T183000Z
DTEND:20251218T203000Z

SUMMARY:ERC Ingolstadt - Eisbären Berlin
DESCRIPTION:
END:VEVENT
END:VCALENDAR