BEGIN:VCALENDAR
VERSION:2.0
PRODID:-//hacksw/handcal//NONSGML v1.0//EN
BEGIN:VEVENT
DTSTAMP:20181125T153000Z
DTSTART:20181125T153000Z
DTEND:20181125T180000Z

SUMMARY:ERC Ingoldstadt - Eisbären Berlin
DESCRIPTION:
END:VEVENT
END:VCALENDAR