BEGIN:VCALENDAR
VERSION:2.0
PRODID:-//hacksw/handcal//NONSGML v1.0//EN
BEGIN:VEVENT
DTSTAMP:20151002T173000Z
DTSTART:20151002T173000Z
DTEND:20151002T200000Z

SUMMARY:Eisbären Berlin vs. Ingolstadt
DESCRIPTION:
END:VEVENT
END:VCALENDAR