BEGIN:VCALENDAR
VERSION:2.0
PRODID:-//hacksw/handcal//NONSGML v1.0//EN
BEGIN:VEVENT
DTSTAMP:20180304T130000Z
DTSTART:20180304T130000Z
DTEND:20180304T150000Z

SUMMARY:Eisbären Berlin vs. Fischtown Pinguins Bremerhaven
DESCRIPTION:
END:VEVENT
END:VCALENDAR