BEGIN:VCALENDAR
VERSION:2.0
PRODID:-//hacksw/handcal//NONSGML v1.0//EN
BEGIN:VEVENT
DTSTAMP:20170217T183000Z
DTSTART:20170217T183000Z
DTEND:20170217T203000Z

SUMMARY:Eisbären Berlin vs. Fischtown Pinguins Bremerhaven
DESCRIPTION:
END:VEVENT
END:VCALENDAR