BEGIN:VCALENDAR
VERSION:2.0
PRODID:-//hacksw/handcal//NONSGML v1.0//EN
BEGIN:VEVENT
DTSTAMP:20161127T130000Z
DTSTART:20161127T130000Z
DTEND:20161127T150000Z

SUMMARY:Eisbären Berlin vs. ERC Ingolstadt
DESCRIPTION:
END:VEVENT
END:VCALENDAR