BEGIN:VCALENDAR
VERSION:2.0
PRODID:-//hacksw/handcal//NONSGML v1.0//EN
BEGIN:VEVENT
DTSTAMP:20151204T183000Z
DTSTART:20151204T183000Z
DTEND:20151204T210000Z

SUMMARY:Eisbären Berlin vs. Adler Mannheim
DESCRIPTION:
END:VEVENT
END:VCALENDAR