BEGIN:VCALENDAR
VERSION:2.0
PRODID:-//hacksw/handcal//NONSGML v1.0//EN
BEGIN:VEVENT
DTSTAMP:20160306T133000Z
DTSTART:20160306T133000Z
DTEND:20160306T160000Z

SUMMARY:Eisbären Berlin vs. Adler Mannheim
DESCRIPTION:
END:VEVENT
END:VCALENDAR