BEGIN:VCALENDAR
VERSION:2.0
PRODID:-//hacksw/handcal//NONSGML v1.0//EN
BEGIN:VEVENT
DTSTAMP:20251130T130000Z
DTSTART:20251130T130000Z
DTEND:20251130T150000Z

SUMMARY:Eisbären Berlin - Kölner Haie
DESCRIPTION:
END:VEVENT
END:VCALENDAR