BEGIN:VCALENDAR
VERSION:2.0
PRODID:-//hacksw/handcal//NONSGML v1.0//EN
BEGIN:VEVENT
DTSTAMP:20240419T173000Z
DTSTART:20240419T173000Z
DTEND:20240419T193000Z

SUMMARY:Eisbären Berlin - Fischtown Pinguins Bremerhaven
DESCRIPTION:
END:VEVENT
END:VCALENDAR