BEGIN:VCALENDAR
VERSION:2.0
PRODID:-//hacksw/handcal//NONSGML v1.0//EN
BEGIN:VEVENT
DTSTAMP:20260301T130000Z
DTSTART:20260301T130000Z
DTEND:20260301T150000Z

SUMMARY:Eisbären Berlin - Fischtown Pinguins Bremerhaven
DESCRIPTION:
END:VEVENT
END:VCALENDAR