BEGIN:VCALENDAR
VERSION:2.0
PRODID:-//hacksw/handcal//NONSGML v1.0//EN
BEGIN:VEVENT
DTSTAMP:20251102T153000Z
DTSTART:20251102T153000Z
DTEND:20251102T173000Z

SUMMARY:Eisbären Berlin - Fischtown Pinguins Bremerhaven 
DESCRIPTION:
END:VEVENT
END:VCALENDAR