BEGIN:VCALENDAR
VERSION:2.0
PRODID:-//hacksw/handcal//NONSGML v1.0//EN
BEGIN:VEVENT
DTSTAMP:20181014T120000Z
DTSTART:20181014T120000Z
DTEND:20181014T143000Z

SUMMARY:Eisbären Berlin - ERC Ingolstadt
DESCRIPTION:
END:VEVENT
END:VCALENDAR