BEGIN:VCALENDAR
VERSION:2.0
PRODID:-//hacksw/handcal//NONSGML v1.0//EN
BEGIN:VEVENT
DTSTAMP:20210326T183000Z
DTSTART:20210326T183000Z
DTEND:20210326T203000Z

SUMMARY:Eisbären Berlin - ERC Ingolstadt
DESCRIPTION:
END:VEVENT
END:VCALENDAR