BEGIN:VCALENDAR
VERSION:2.0
PRODID:-//hacksw/handcal//NONSGML v1.0//EN
BEGIN:VEVENT
DTSTAMP:20251005T120000Z
DTSTART:20251005T120000Z
DTEND:20251005T140000Z

SUMMARY:Eisbären Berlin - ERC Ingolstadt
DESCRIPTION:
END:VEVENT
END:VCALENDAR