BEGIN:VCALENDAR
VERSION:2.0
PRODID:-//hacksw/handcal//NONSGML v1.0//EN
BEGIN:VEVENT
DTSTAMP:20240202T183000Z
DTSTART:20240202T183000Z
DTEND:20240202T203000Z

SUMMARY:Eisbären Berlin - Adler Mannheim
DESCRIPTION:
END:VEVENT
END:VCALENDAR