BEGIN:VCALENDAR
VERSION:2.0
PRODID:-//hacksw/handcal//NONSGML v1.0//EN
BEGIN:VEVENT
DTSTAMP:19900914T170000Z
DTSTART:19900914T170000Z
DTEND:19900914T190000Z

SUMMARY:EHC Dynamo Berlin vs. Düsseldorfer EG
DESCRIPTION:EHC Dynamo Berlin - Düsseldorfer EG 1:11:0 Steffen Ziesche1:1 Peter John Lee
END:VEVENT
END:VCALENDAR