BEGIN:VCALENDAR
VERSION:2.0
PRODID:-//hacksw/handcal//NONSGML v1.0//EN
BEGIN:VEVENT
DTSTAMP:20160918T143000Z
DTSTART:20160918T143000Z
DTEND:20160918T163000Z

SUMMARY:Düsseldorfer EG vs. Eisbären Berlin
DESCRIPTION:
END:VEVENT
END:VCALENDAR