BEGIN:VCALENDAR
VERSION:2.0
PRODID:-//hacksw/handcal//NONSGML v1.0//EN
BEGIN:VEVENT
DTSTAMP:20210111T173000Z
DTSTART:20210111T173000Z
DTEND:20210111T193000Z

SUMMARY:Düsseldorfer EG - Eisbären Berlin
DESCRIPTION:
END:VEVENT
END:VCALENDAR