BEGIN:VCALENDAR
VERSION:2.0
PRODID:-//hacksw/handcal//NONSGML v1.0//EN
BEGIN:VEVENT
DTSTAMP:20170312T130000Z
DTSTART:20170312T130000Z
DTEND:20170312T150000Z

SUMMARY:Adler Mannheim vs. Eisbären Berlin
DESCRIPTION:
END:VEVENT
END:VCALENDAR