BEGIN:VCALENDAR
VERSION:2.0
PRODID:-//hacksw/handcal//NONSGML v1.0//EN
BEGIN:VEVENT
DTSTAMP:20201119T183000Z
DTSTART:20201119T183000Z
DTEND:20201119T203000Z

SUMMARY:Adler Mannheim - Eisbären Berlin 
DESCRIPTION:Im Rahmen des MagentaSport Cups 2020Ab dem 11. November werden acht Teams der PENNY DEL auf Einladung der Telekom den MagentaSport Cup austragen. Das Finale des Turniers ist auf den 12. Dezember terminiert. In Gruppe A spielen: Krefeld Pinguine, Düsseldorfer EG, Grizzlys Wolfsburg und die Fischtown Pinguins Bremerhaven. In Gruppe B spielen: Red Bull München, Adler Mannheim, Eisbären Berlin und die Schwenninger Wild Wings.Die Teams spielen an insgesamt 24 Spieltagen die besten vier Teams aus, die dann in Halbfinale und Finale den Gewinner ermitteln.
END:VEVENT
END:VCALENDAR